BEGIN:VCALENDAR
VERSION:2.0
PRODID:-//CERREV - Centre de recherche risques et vulnérabilités - ECPv6.15.18//NONSGML v1.0//EN
CALSCALE:GREGORIAN
METHOD:PUBLISH
X-WR-CALNAME:CERREV - Centre de recherche risques et vulnérabilités
X-ORIGINAL-URL:https://cerrev.unicaen.fr
X-WR-CALDESC:Évènements pour CERREV - Centre de recherche risques et vulnérabilités
REFRESH-INTERVAL;VALUE=DURATION:PT1H
X-Robots-Tag:noindex
X-PUBLISHED-TTL:PT1H
BEGIN:VTIMEZONE
TZID:Europe/Paris
BEGIN:DAYLIGHT
TZOFFSETFROM:+0100
TZOFFSETTO:+0200
TZNAME:CEST
DTSTART:20220327T010000
END:DAYLIGHT
BEGIN:STANDARD
TZOFFSETFROM:+0200
TZOFFSETTO:+0100
TZNAME:CET
DTSTART:20221030T010000
END:STANDARD
BEGIN:DAYLIGHT
TZOFFSETFROM:+0100
TZOFFSETTO:+0200
TZNAME:CEST
DTSTART:20230326T010000
END:DAYLIGHT
BEGIN:STANDARD
TZOFFSETFROM:+0200
TZOFFSETTO:+0100
TZNAME:CET
DTSTART:20231029T010000
END:STANDARD
BEGIN:DAYLIGHT
TZOFFSETFROM:+0100
TZOFFSETTO:+0200
TZNAME:CEST
DTSTART:20240331T010000
END:DAYLIGHT
BEGIN:STANDARD
TZOFFSETFROM:+0200
TZOFFSETTO:+0100
TZNAME:CET
DTSTART:20241027T010000
END:STANDARD
END:VTIMEZONE
BEGIN:VEVENT
DTSTART;TZID=Europe/Paris:20231109T173000
DTEND;TZID=Europe/Paris:20231109T193000
DTSTAMP:20260425T212457
CREATED:20231026T135931Z
LAST-MODIFIED:20231027T101915Z
UID:48352-1699551000-1699558200@cerrev.unicaen.fr
SUMMARY:Ce que savent les Aché
DESCRIPTION:avec Éléonore Devevey\, maître-assistante en langue et littérature françaises modernes\, Université de Genève.La première séance sera l’occasion de partager la lecture de Chronique des Indiens Guayaki\, paru en 1972 dans la collection « Terre humaine ». Basé sur sa thèse d’ethnologie réalisée sous la direction de Claude Lévi-Strauss (1965)\, cet ouvrage est issu de son travail de terrain auprès des Guayaki partagé avec Lucien Sebag et Hélène Clastres durant l’année 1963 et offre une réflexion sur le statut d’ethnologue et la restitution du savoir anthropologique.« On les appelle Guayaki\, « Rats féroces «. Eux-mêmes se dénomment Aché\, « les Personnes «. Si- lencieux et invisibles\, ces nomades parcourent la forêt tropicale à l’est du Paraguay. C’est ce qui leur a permis d’échapper si longtemps au sort de leurs voisins sédentaires : esclavage\, mort\, disparition. L’auteur a vécu un an dans leur intimité… Les incidents et anecdotes cocasses ou tragiques tracent peu à peu le portrait de ces Guayaki\, paillards quand ils peuvent\, graves lorsqu’il le faut : fêtes du miel\, de l’amour… »Pour toutes informations : Pierre-Alexandre Delorme et Pauline Launay
URL:https://cerrev.unicaen.fr/evenement/ce-que-savent-les-ache/
LOCATION:Caen · Campus 1 · Maison de la recherche en sciences humaines (MRSH)\, Campus 1\, Maison de la recherche en sciences humaines (MRSH)\, 1 Esplanade de la Paix\, Caen\, 14000\, France
CATEGORIES:Atelier
END:VEVENT
END:VCALENDAR