BEGIN:VCALENDAR
VERSION:2.0
PRODID:-//CERREV - Centre de recherche risques et vulnérabilités - ECPv6.15.18//NONSGML v1.0//EN
CALSCALE:GREGORIAN
METHOD:PUBLISH
X-WR-CALNAME:CERREV - Centre de recherche risques et vulnérabilités
X-ORIGINAL-URL:https://cerrev.unicaen.fr
X-WR-CALDESC:Évènements pour CERREV - Centre de recherche risques et vulnérabilités
REFRESH-INTERVAL;VALUE=DURATION:PT1H
X-Robots-Tag:noindex
X-PUBLISHED-TTL:PT1H
BEGIN:VTIMEZONE
TZID:Europe/Paris
BEGIN:DAYLIGHT
TZOFFSETFROM:+0100
TZOFFSETTO:+0200
TZNAME:CEST
DTSTART:20230326T010000
END:DAYLIGHT
BEGIN:STANDARD
TZOFFSETFROM:+0200
TZOFFSETTO:+0100
TZNAME:CET
DTSTART:20231029T010000
END:STANDARD
BEGIN:DAYLIGHT
TZOFFSETFROM:+0100
TZOFFSETTO:+0200
TZNAME:CEST
DTSTART:20240331T010000
END:DAYLIGHT
BEGIN:STANDARD
TZOFFSETFROM:+0200
TZOFFSETTO:+0100
TZNAME:CET
DTSTART:20241027T010000
END:STANDARD
BEGIN:DAYLIGHT
TZOFFSETFROM:+0100
TZOFFSETTO:+0200
TZNAME:CEST
DTSTART:20250330T010000
END:DAYLIGHT
BEGIN:STANDARD
TZOFFSETFROM:+0200
TZOFFSETTO:+0100
TZNAME:CET
DTSTART:20251026T010000
END:STANDARD
END:VTIMEZONE
BEGIN:VEVENT
DTSTART;TZID=Europe/Paris:20240313T160000
DTEND;TZID=Europe/Paris:20240313T173000
DTSTAMP:20260421T051608
CREATED:20240130T135051Z
LAST-MODIFIED:20240130T135052Z
UID:48553-1710345600-1710351000@cerrev.unicaen.fr
SUMMARY:Travail\, loisirs et temps sociaux - S2
DESCRIPTION:Le thème 4 Travail\, loisirs et temps sociaux inaugure cette année\, sous la coordination de Claude Lafabrègue et Irène-Lucile Hertzog\, un cycle de séminaires autour de trois interventions de spécialistes des questions du travail\, des loisirs et de l’articulation des temps sociaux.Ces séminaires ont pour vocation de rassembler une diversité de publics autour de la présentation de travaux susceptibles d’intéresser des enseignant·es et étudiant·es des UFR Humanités et sciences sociales\, Staps et Psychologie. Les étudiant·es des Master Ergonomie (UFR Staps) et Vulnérabilités (UFR HSS) seront d’ailleurs spécifiquement invité·es à assister aux conférences dans le cadre de leur parcours d’étude. \n\n\n\nJessy Barré (MCF en ergonomie\, Université de Caen\, CERREV) nous proposera une communication intitulée « Automatisation et Facteur humain. De l’industrie à la conduite autonome ». Ses principaux thèmes de recherche portent sur la prise en compte du facteur humain dans les projets de conception et d’innovation en ergonomie prospective et l’interaction et la coopération humains-systèmes complexes\, notamment dans l’industrie\, les transports et le domaine de la santé.
URL:https://cerrev.unicaen.fr/evenement/travail-loisirs-et-temps-sociaux-s2/
LOCATION:Caen · Campus 1 · Maison de la recherche en sciences humaines (MRSH) · Amphi\, Campus 1\, Maison de la recherche en sciences humaines (MRSH)\, 1 Esplanade de la Paix\, Caen\, 14000\, France
CATEGORIES:Séminaire
END:VEVENT
END:VCALENDAR