BEGIN:VCALENDAR
VERSION:2.0
PRODID:-//CERREV - Centre de recherche risques et vulnérabilités - ECPv6.15.18//NONSGML v1.0//EN
CALSCALE:GREGORIAN
METHOD:PUBLISH
X-WR-CALNAME:CERREV - Centre de recherche risques et vulnérabilités
X-ORIGINAL-URL:https://cerrev.unicaen.fr
X-WR-CALDESC:Évènements pour CERREV - Centre de recherche risques et vulnérabilités
REFRESH-INTERVAL;VALUE=DURATION:PT1H
X-Robots-Tag:noindex
X-PUBLISHED-TTL:PT1H
BEGIN:VTIMEZONE
TZID:Europe/Paris
BEGIN:DAYLIGHT
TZOFFSETFROM:+0100
TZOFFSETTO:+0200
TZNAME:CEST
DTSTART:20240331T010000
END:DAYLIGHT
BEGIN:STANDARD
TZOFFSETFROM:+0200
TZOFFSETTO:+0100
TZNAME:CET
DTSTART:20241027T010000
END:STANDARD
BEGIN:DAYLIGHT
TZOFFSETFROM:+0100
TZOFFSETTO:+0200
TZNAME:CEST
DTSTART:20250330T010000
END:DAYLIGHT
BEGIN:STANDARD
TZOFFSETFROM:+0200
TZOFFSETTO:+0100
TZNAME:CET
DTSTART:20251026T010000
END:STANDARD
BEGIN:DAYLIGHT
TZOFFSETFROM:+0100
TZOFFSETTO:+0200
TZNAME:CEST
DTSTART:20260329T010000
END:DAYLIGHT
BEGIN:STANDARD
TZOFFSETFROM:+0200
TZOFFSETTO:+0100
TZNAME:CET
DTSTART:20261025T010000
END:STANDARD
END:VTIMEZONE
BEGIN:VEVENT
DTSTART;TZID=Europe/Paris:20251118T133000
DTEND;TZID=Europe/Paris:20251118T153000
DTSTAMP:20260420T080430
CREATED:20250703T103912Z
LAST-MODIFIED:20250722T123715Z
UID:49700-1763472600-1763479800@cerrev.unicaen.fr
SUMMARY:Nucléaire\, énergie et société | 8
DESCRIPTION:Séminaire STS 2025 : Into eternity\, le nucléaire et la question du temps. Quelles questions pose le projet d’enfouissement de déchets pour 100000 ans ?Hervé Lecrosnier\, éditeur\, ancien Maître de conférences en informatique à l’université de Caen Normandie. \n\n\n\ne-Seminaire-STS2025 (pdf · 3 Mo)Télécharger (pdf · 3 Mo)
URL:https://cerrev.unicaen.fr/evenement/nucleaire-energie-et-societe-8/
LOCATION:Caen · Campus 1 · Maison de la recherche en sciences humaines (MRSH) · Salle SH-126\, Campus 1\, Maison de la recherche en sciences humaines (MRSH)\, 1 Esplanade de la Paix\, Caen\, 14000\, France
CATEGORIES:Séminaire
END:VEVENT
BEGIN:VEVENT
DTSTART;TZID=Europe/Paris:20251118T200000
DTEND;TZID=Europe/Paris:20251118T223000
DTSTAMP:20260420T080430
CREATED:20251105T122602Z
LAST-MODIFIED:20251105T155557Z
UID:89058-1763496000-1763505000@cerrev.unicaen.fr
SUMMARY:L’histoire peut-elle devenir une marchandise et un spectacle ?
DESCRIPTION:Comment transmettre la mémoire et l’histoire ?Une tendance contemporaine nous transforme l’histoire en un « spectacle immersif ». Or l’histoire est une science humaine et sociale\, une discipline intellectuelle exigeant réflexion et médiation. Elle sert d’autant mieux la mémoire collective qu’elle garde son caractère exigeant et critique.Quels sont les enjeux de sa mise en spectacle ? Où est la limite entre transmission et divertissement ? Le « sensationnalisme » est-il encore recevable au moment où la guerre déchire à nouveau l’Europe et le monde ?C’est autour de ces questions\, entre éthique et éducation\, que débattront Stéphane Audoin-Rouzeau et Christophe Prochasson\, tous deux historiens et directeurs d’études à l’EHESS (Paris). Rencontre animée par Jean Lebrun\, journaliste à France culture et France Inter\, et lui aussi historien.Rencontre-débat avec :Stéphane Audoin-Rouzeau\, historien\, directeur d’études à l’EHESS (Paris) Christophe Prochasson\, historien\, directeur d’études à l’EHESS (Paris)\, ancien recteur de l’Académie de Caen.Rencontre animée par : Jean Lebrun\, historien\, journaliste à France culture et France Inter \n\n\n\ndemosthene-18112025_flyer (pdf · 1 Mo)Télécharger (pdf · 1 Mo)
URL:https://cerrev.unicaen.fr/evenement/lhistoire-peut-elle-devenir-une-marchandise-et-un-spectacle/
LOCATION:Caen · Campus 1 · Maison de la recherche en sciences humaines (MRSH) · Amphi\, Campus 1\, Maison de la recherche en sciences humaines (MRSH)\, 1 Esplanade de la Paix\, Caen\, 14000\, France
CATEGORIES:Rencontre
END:VEVENT
END:VCALENDAR