BEGIN:VCALENDAR
VERSION:2.0
PRODID:-//CERREV - Centre de recherche risques et vulnérabilités - ECPv6.15.18//NONSGML v1.0//EN
CALSCALE:GREGORIAN
METHOD:PUBLISH
X-ORIGINAL-URL:https://cerrev.unicaen.fr
X-WR-CALDESC:Évènements pour CERREV - Centre de recherche risques et vulnérabilités
REFRESH-INTERVAL;VALUE=DURATION:PT1H
X-Robots-Tag:noindex
X-PUBLISHED-TTL:PT1H
BEGIN:VTIMEZONE
TZID:Europe/Paris
BEGIN:DAYLIGHT
TZOFFSETFROM:+0100
TZOFFSETTO:+0200
TZNAME:CEST
DTSTART:20250330T010000
END:DAYLIGHT
BEGIN:STANDARD
TZOFFSETFROM:+0200
TZOFFSETTO:+0100
TZNAME:CET
DTSTART:20251026T010000
END:STANDARD
BEGIN:DAYLIGHT
TZOFFSETFROM:+0100
TZOFFSETTO:+0200
TZNAME:CEST
DTSTART:20260329T010000
END:DAYLIGHT
BEGIN:STANDARD
TZOFFSETFROM:+0200
TZOFFSETTO:+0100
TZNAME:CET
DTSTART:20261025T010000
END:STANDARD
BEGIN:DAYLIGHT
TZOFFSETFROM:+0100
TZOFFSETTO:+0200
TZNAME:CEST
DTSTART:20270328T010000
END:DAYLIGHT
BEGIN:STANDARD
TZOFFSETFROM:+0200
TZOFFSETTO:+0100
TZNAME:CET
DTSTART:20271031T010000
END:STANDARD
END:VTIMEZONE
BEGIN:VEVENT
DTSTART;TZID=Europe/Paris:20260202T170000
DTEND;TZID=Europe/Paris:20260202T190000
DTSTAMP:20260421T194420
CREATED:20251105T154633Z
LAST-MODIFIED:20251105T155246Z
UID:89077-1770051600-1770058800@cerrev.unicaen.fr
SUMMARY:Pratiques de résistances dans le monde de la presse | 3
DESCRIPTION:Les ateliers du genre de l’Université de Caen Normandie auront le plaisir de recevoir pour cette troisième séance 2025-2026 : \n\n\n\nLucie Barette (Chercheuse en littérature à l’unité de recherche Lettres\, Arts du Spectacle Langues Romanes – LASLAR\, Université de Caen) : « Marguerite Durand et son journalisme féministe ».Laure Beaulieu (Chercheuse en sciences de l’information et de la communication\, post-doctorante à l’Université de Lorraine) : « Évolutions des pratiques journalistiques sur les sujets féministes dans le contexte post #metoo ».Contact : ateliersdugenre.unicaen@gmail.comFacebook : Ateliers du Genre de l’Université de CaenInstagram : @ateliersdugenre.unicaen \n\n\n\nAffiche ADG VF (pdf · 546 Ko)Télécharger (pdf · 546 Ko)
URL:https://cerrev.unicaen.fr/evenement/pratiques-de-resistances-dans-le-monde-de-la-presse-3/
LOCATION:Caen · Campus 1 · Maison de la recherche en sciences humaines (MRSH) · Salle SH-027\, Campus 1\, Maison de la recherche en sciences humaines (MRSH)\, 1 Esplanade de la Paix\, Caen\, 14000\, France
CATEGORIES:Atelier
END:VEVENT
END:VCALENDAR