BEGIN:VCALENDAR
VERSION:2.0
PRODID:-//CERREV - Centre de recherche risques et vulnérabilités - ECPv6.15.18//NONSGML v1.0//EN
CALSCALE:GREGORIAN
METHOD:PUBLISH
X-WR-CALNAME:CERREV - Centre de recherche risques et vulnérabilités
X-ORIGINAL-URL:https://cerrev.unicaen.fr
X-WR-CALDESC:Évènements pour CERREV - Centre de recherche risques et vulnérabilités
REFRESH-INTERVAL;VALUE=DURATION:PT1H
X-Robots-Tag:noindex
X-PUBLISHED-TTL:PT1H
BEGIN:VTIMEZONE
TZID:Europe/Paris
BEGIN:DAYLIGHT
TZOFFSETFROM:+0100
TZOFFSETTO:+0200
TZNAME:CEST
DTSTART:20240331T010000
END:DAYLIGHT
BEGIN:STANDARD
TZOFFSETFROM:+0200
TZOFFSETTO:+0100
TZNAME:CET
DTSTART:20241027T010000
END:STANDARD
BEGIN:DAYLIGHT
TZOFFSETFROM:+0100
TZOFFSETTO:+0200
TZNAME:CEST
DTSTART:20250330T010000
END:DAYLIGHT
BEGIN:STANDARD
TZOFFSETFROM:+0200
TZOFFSETTO:+0100
TZNAME:CET
DTSTART:20251026T010000
END:STANDARD
BEGIN:DAYLIGHT
TZOFFSETFROM:+0100
TZOFFSETTO:+0200
TZNAME:CEST
DTSTART:20260329T010000
END:DAYLIGHT
BEGIN:STANDARD
TZOFFSETFROM:+0200
TZOFFSETTO:+0100
TZNAME:CET
DTSTART:20261025T010000
END:STANDARD
END:VTIMEZONE
BEGIN:VEVENT
DTSTART;TZID=Europe/Paris:20250313T083000
DTEND;TZID=Europe/Paris:20250313T170000
DTSTAMP:20260421T021017
CREATED:20250131T161128Z
LAST-MODIFIED:20250131T161728Z
UID:49233-1741854600-1741885200@cerrev.unicaen.fr
SUMMARY:Représentations de la vieillesse et du vieillissement : Approches pluridisciplinaires
DESCRIPTION:e-vieillissement-prog (pdf · 2 Mo)Télécharger (pdf · 2 Mo)\n\n\n\nContacts : gillonne.desquesnes@unicaen.frÉvénement ouvert à la formation continue : 1 914 14 085 000 16Référencement Datadock \n\n\n\nEntrée libre mais inscription obligatoire auprès de Mme Poinen : priscila.poinen@unicaen.frJournée ouverte aux étudiants\, chercheurs et professionnels
URL:https://cerrev.unicaen.fr/evenement/representations-de-la-vieillesse-et-du-vieillissement-approches-pluridisciplinaires/
LOCATION:Caen · Campus 4 · IAE · Amphi Léon Walras\, IAE Caen\, 3 Rue Claude Bloch\, Caen\, 14075\, France
CATEGORIES:Congrès - Colloque
END:VEVENT
END:VCALENDAR