BEGIN:VCALENDAR
VERSION:2.0
PRODID:-//CERREV - Centre de recherche risques et vulnérabilités - ECPv6.15.18//NONSGML v1.0//EN
CALSCALE:GREGORIAN
METHOD:PUBLISH
X-WR-CALNAME:CERREV - Centre de recherche risques et vulnérabilités
X-ORIGINAL-URL:https://cerrev.unicaen.fr
X-WR-CALDESC:Évènements pour CERREV - Centre de recherche risques et vulnérabilités
REFRESH-INTERVAL;VALUE=DURATION:PT1H
X-Robots-Tag:noindex
X-PUBLISHED-TTL:PT1H
BEGIN:VTIMEZONE
TZID:Europe/Paris
BEGIN:DAYLIGHT
TZOFFSETFROM:+0100
TZOFFSETTO:+0200
TZNAME:CEST
DTSTART:20220327T010000
END:DAYLIGHT
BEGIN:STANDARD
TZOFFSETFROM:+0200
TZOFFSETTO:+0100
TZNAME:CET
DTSTART:20221030T010000
END:STANDARD
BEGIN:DAYLIGHT
TZOFFSETFROM:+0100
TZOFFSETTO:+0200
TZNAME:CEST
DTSTART:20230326T010000
END:DAYLIGHT
BEGIN:STANDARD
TZOFFSETFROM:+0200
TZOFFSETTO:+0100
TZNAME:CET
DTSTART:20231029T010000
END:STANDARD
BEGIN:DAYLIGHT
TZOFFSETFROM:+0100
TZOFFSETTO:+0200
TZNAME:CEST
DTSTART:20240331T010000
END:DAYLIGHT
BEGIN:STANDARD
TZOFFSETFROM:+0200
TZOFFSETTO:+0100
TZNAME:CET
DTSTART:20241027T010000
END:STANDARD
END:VTIMEZONE
BEGIN:VEVENT
DTSTART;TZID=Europe/Paris:20230919T133000
DTEND;TZID=Europe/Paris:20230919T163000
DTSTAMP:20260424T080831
CREATED:20230904T105143Z
LAST-MODIFIED:20230904T123123Z
UID:48010-1695130200-1695141000@cerrev.unicaen.fr
SUMMARY:Conquête spatiale et transhumanisme : vers l’infini et au-delà…
DESCRIPTION:Frédérick Lemarchand\, Professeur de sociologie à l’Université de Caen Normandie. Codirecteur du CERREV et du Pôle Risques CNRS/MRSH.
URL:https://cerrev.unicaen.fr/evenement/conquete-spatiale-et-transhumanisme-vers-linfini-et-au-dela/
CATEGORIES:Séminaire
END:VEVENT
BEGIN:VEVENT
DTSTART;TZID=Europe/Paris:20230926T133000
DTEND;TZID=Europe/Paris:20230926T163000
DTSTAMP:20260424T080831
CREATED:20230904T110144Z
LAST-MODIFIED:20230904T115710Z
UID:48022-1695735000-1695745800@cerrev.unicaen.fr
SUMMARY:Colonisation de l’espace : les stations orbitales sont-elles la solution aux problèmes terrestres ?
DESCRIPTION:Roland Lehoucq\, Astrophysicien au CEA\, spécialiste de science-fiction. Auteur de Humains dans l’espace\, entre réel et fiction (avec F. Porcel)\, La Martinière\, 2021.
URL:https://cerrev.unicaen.fr/evenement/colonisation-de-lespace-les-stations-orbitales-sont-elles-la-solution-aux-problemes-terrestres-2/
LOCATION:Caen · Campus 1 · Maison de la recherche en sciences humaines (MRSH) · Salle SH-027\, Campus 1\, Maison de la recherche en sciences humaines (MRSH)\, 1 Esplanade de la Paix\, Caen\, 14000\, France
CATEGORIES:Séminaire
END:VEVENT
BEGIN:VEVENT
DTSTART;TZID=Europe/Paris:20230926T160000
DTEND;TZID=Europe/Paris:20230926T173000
DTSTAMP:20260424T080831
CREATED:20230904T134504Z
LAST-MODIFIED:20231023T115541Z
UID:48072-1695744000-1695749400@cerrev.unicaen.fr
SUMMARY:Résidus d'utopies : la descendance négligée de belles idées
DESCRIPTION:Hervé Le Crosnier\, Université de Caen Normandie \n\n\n\nIntroduction et discussion par Vassili Rivron\, CERREV
URL:https://cerrev.unicaen.fr/evenement/residus-dutopies-la-descendance-negligee-de-belles-idees/
LOCATION:Caen · Campus 1 · Maison de la recherche en sciences humaines (MRSH) · Amphi\, Campus 1\, Maison de la recherche en sciences humaines (MRSH)\, 1 Esplanade de la Paix\, Caen\, 14000\, France
CATEGORIES:Séminaire
END:VEVENT
END:VCALENDAR