BEGIN:VCALENDAR
VERSION:2.0
PRODID:-//CERREV - Centre de recherche risques et vulnérabilités - ECPv6.15.18//NONSGML v1.0//EN
CALSCALE:GREGORIAN
METHOD:PUBLISH
X-WR-CALNAME:CERREV - Centre de recherche risques et vulnérabilités
X-ORIGINAL-URL:https://cerrev.unicaen.fr
X-WR-CALDESC:Évènements pour CERREV - Centre de recherche risques et vulnérabilités
REFRESH-INTERVAL;VALUE=DURATION:PT1H
X-Robots-Tag:noindex
X-PUBLISHED-TTL:PT1H
BEGIN:VTIMEZONE
TZID:Europe/Paris
BEGIN:DAYLIGHT
TZOFFSETFROM:+0100
TZOFFSETTO:+0200
TZNAME:CEST
DTSTART:20220327T010000
END:DAYLIGHT
BEGIN:STANDARD
TZOFFSETFROM:+0200
TZOFFSETTO:+0100
TZNAME:CET
DTSTART:20221030T010000
END:STANDARD
BEGIN:DAYLIGHT
TZOFFSETFROM:+0100
TZOFFSETTO:+0200
TZNAME:CEST
DTSTART:20230326T010000
END:DAYLIGHT
BEGIN:STANDARD
TZOFFSETFROM:+0200
TZOFFSETTO:+0100
TZNAME:CET
DTSTART:20231029T010000
END:STANDARD
BEGIN:DAYLIGHT
TZOFFSETFROM:+0100
TZOFFSETTO:+0200
TZNAME:CEST
DTSTART:20240331T010000
END:DAYLIGHT
BEGIN:STANDARD
TZOFFSETFROM:+0200
TZOFFSETTO:+0100
TZNAME:CET
DTSTART:20241027T010000
END:STANDARD
END:VTIMEZONE
BEGIN:VEVENT
DTSTART;TZID=Europe/Paris:20231003T133000
DTEND;TZID=Europe/Paris:20231003T163000
DTSTAMP:20260425T211437
CREATED:20230904T111548Z
LAST-MODIFIED:20230904T124153Z
UID:48025-1696339800-1696350600@cerrev.unicaen.fr
SUMMARY:Horizon cosmique et pluralité des mondes. Sommes-nous seuls dans l’univers ?
DESCRIPTION:Comment interpréter les questions métaphysiques qui se posent dès que l’on envisage le cosmos ?\n\n\n\n\n\n\n\n\n\nJean-Marie Brohm\, Professeur émérite de sociologie à l’Université de Montpellier\, philosophe\, auteur de Anthropologie du cosmos\, énigmes extraterrestres\, Prétentaine\, 2021.
URL:https://cerrev.unicaen.fr/evenement/horizon-cosmique-et-pluralite-des-mondes-sommes-nous-seuls-dans-lunivers-2/
LOCATION:Caen · Campus 1 · Maison de la recherche en sciences humaines (MRSH)\, Campus 1\, Maison de la recherche en sciences humaines (MRSH)\, 1 Esplanade de la Paix\, Caen\, 14000\, France
CATEGORIES:Séminaire
END:VEVENT
BEGIN:VEVENT
DTSTART;TZID=Europe/Paris:20231017T133000
DTEND;TZID=Europe/Paris:20231017T170000
DTSTAMP:20260425T211437
CREATED:20230904T112056Z
LAST-MODIFIED:20231023T115936Z
UID:48032-1697549400-1697562000@cerrev.unicaen.fr
SUMMARY:There is no alternative in space : sur l’instauration d’un paradigme de la conquête\, de la Guerre froide au New Space
DESCRIPTION:Arnaud Saint-Martin\, Sociologue des techniques au CNRS\, Paris Sorbonne et Irénée Regnauld\, chercheur associé à l’UTC-Compiègne\, fondateur de l’association technocritique le Mouton numérique
URL:https://cerrev.unicaen.fr/evenement/there-is-no-alternative-in-space-sur-linstauration-dun-paradigme-de-la-conquete-de-la-guerre-froide-au-new-space/
LOCATION:Caen · Campus 1 · Maison de la recherche en sciences humaines (MRSH) · Amphi\, Campus 1\, Maison de la recherche en sciences humaines (MRSH)\, 1 Esplanade de la Paix\, Caen\, 14000\, France
CATEGORIES:Séminaire
END:VEVENT
BEGIN:VEVENT
DTSTART;TZID=Europe/Paris:20231024T133000
DTEND;TZID=Europe/Paris:20231024T163000
DTSTAMP:20260425T211437
CREATED:20230904T112426Z
LAST-MODIFIED:20230904T123517Z
UID:48036-1698154200-1698165000@cerrev.unicaen.fr
SUMMARY:« 2001 L’Odyssée de l’espace » (Stanley Kubrick\, 1968)\, anthropologie et mythologie
DESCRIPTION:Yann Calvet\, Maître de conférences en arts du spectacle à l’Université de Caen.
URL:https://cerrev.unicaen.fr/evenement/2001-lodyssee-de-lespace-stanley-kubrick-1968-anthropologie-et-mythologie-2/
LOCATION:Caen · Campus 1 · Maison de la recherche en sciences humaines (MRSH) · Salle SH-027\, Campus 1\, Maison de la recherche en sciences humaines (MRSH)\, 1 Esplanade de la Paix\, Caen\, 14000\, France
CATEGORIES:Séminaire
END:VEVENT
END:VCALENDAR