BEGIN:VCALENDAR
VERSION:2.0
PRODID:-//CERREV - Centre de recherche risques et vulnérabilités - ECPv6.15.18//NONSGML v1.0//EN
CALSCALE:GREGORIAN
METHOD:PUBLISH
X-WR-CALNAME:CERREV - Centre de recherche risques et vulnérabilités
X-ORIGINAL-URL:https://cerrev.unicaen.fr
X-WR-CALDESC:Évènements pour CERREV - Centre de recherche risques et vulnérabilités
REFRESH-INTERVAL;VALUE=DURATION:PT1H
X-Robots-Tag:noindex
X-PUBLISHED-TTL:PT1H
BEGIN:VTIMEZONE
TZID:Europe/Paris
BEGIN:DAYLIGHT
TZOFFSETFROM:+0100
TZOFFSETTO:+0200
TZNAME:CEST
DTSTART:20240331T010000
END:DAYLIGHT
BEGIN:STANDARD
TZOFFSETFROM:+0200
TZOFFSETTO:+0100
TZNAME:CET
DTSTART:20241027T010000
END:STANDARD
BEGIN:DAYLIGHT
TZOFFSETFROM:+0100
TZOFFSETTO:+0200
TZNAME:CEST
DTSTART:20250330T010000
END:DAYLIGHT
BEGIN:STANDARD
TZOFFSETFROM:+0200
TZOFFSETTO:+0100
TZNAME:CET
DTSTART:20251026T010000
END:STANDARD
BEGIN:DAYLIGHT
TZOFFSETFROM:+0100
TZOFFSETTO:+0200
TZNAME:CEST
DTSTART:20260329T010000
END:DAYLIGHT
BEGIN:STANDARD
TZOFFSETFROM:+0200
TZOFFSETTO:+0100
TZNAME:CET
DTSTART:20261025T010000
END:STANDARD
END:VTIMEZONE
BEGIN:VEVENT
DTSTART;TZID=Europe/Paris:20250916T133000
DTEND;TZID=Europe/Paris:20250916T153000
DTSTAMP:20260420T075809
CREATED:20250703T103332Z
LAST-MODIFIED:20250722T123108Z
UID:49676-1758029400-1758036600@cerrev.unicaen.fr
SUMMARY:Nucléaire\, énergie et société | 1
DESCRIPTION:Introduction du séminaire : Le nucléaire\, mythe du XXe siècle\, de la bombe à l’atome pour la paix.Frédérick Lemarchand\, Professeur de sociologie à l’université de Caen Normandie\, Directeur du CERREV et du Pôle risques de la MRSH. \n\n\n\ne-Seminaire-STS2025 (pdf · 3 Mo)Télécharger (pdf · 3 Mo)
URL:https://cerrev.unicaen.fr/evenement/nucleaire-energie-et-societe-1/
LOCATION:Caen · Campus 1 · Maison de la recherche en sciences humaines (MRSH) · Salle SH-027\, Campus 1\, Maison de la recherche en sciences humaines (MRSH)\, 1 Esplanade de la Paix\, Caen\, 14000\, France
CATEGORIES:Séminaire
END:VEVENT
BEGIN:VEVENT
DTSTART;TZID=Europe/Paris:20250923T133000
DTEND;TZID=Europe/Paris:20250923T153000
DTSTAMP:20260420T075809
CREATED:20250703T103502Z
LAST-MODIFIED:20250722T123200Z
UID:49682-1758634200-1758641400@cerrev.unicaen.fr
SUMMARY:Nucléaire\, énergie et société | 2
DESCRIPTION:Séminaire STS 2025 : La « crise du nucléaire » dans le Nord-Cotentin (1995) et l’émergence d’une co-expertise citoyenne.Guillaume Grandazzi\, MCF en sociologie au Pôle de Formation Régional de Santé du CHU de Caen. \n\n\n\ne-Seminaire-STS2025 (pdf · 3 Mo)Télécharger (pdf · 3 Mo)
URL:https://cerrev.unicaen.fr/evenement/nucleaire-energie-et-societe-2/
LOCATION:Caen · Campus 1 · Maison de la recherche en sciences humaines (MRSH) · Salle SH-027\, Campus 1\, Maison de la recherche en sciences humaines (MRSH)\, 1 Esplanade de la Paix\, Caen\, 14000\, France
CATEGORIES:Séminaire
END:VEVENT
BEGIN:VEVENT
DTSTART;TZID=Europe/Paris:20250930T133000
DTEND;TZID=Europe/Paris:20250930T153000
DTSTAMP:20260420T075809
CREATED:20250703T103545Z
LAST-MODIFIED:20250722T123308Z
UID:49687-1759239000-1759246200@cerrev.unicaen.fr
SUMMARY:Nucléaire\, énergie et société | 3
DESCRIPTION:Séminaire STS 2025 : Qu’est-ce qui nous a fait oublier le risque nucléaire ? Sociohistoire de la prévention de l’accident majeur en contexte de relance nucléaire.Maël Gourmi\, Enseignant Chercheur à l’INSA de Rennes. \n\n\n\ne-Seminaire-STS2025 (pdf · 3 Mo)Télécharger (pdf · 3 Mo)
URL:https://cerrev.unicaen.fr/evenement/nucleaire-energie-et-societe-3/
LOCATION:Caen · Campus 1 · Maison de la recherche en sciences humaines (MRSH) · Salle SH-027\, Campus 1\, Maison de la recherche en sciences humaines (MRSH)\, 1 Esplanade de la Paix\, Caen\, 14000\, France
CATEGORIES:Séminaire
END:VEVENT
END:VCALENDAR